BEGIN:VCALENDAR
PRODID:-//eluceo/ical//2.0/EN
VERSION:2.0
CALSCALE:GREGORIAN
BEGIN:VEVENT
UID:996165ba905a87da3911c42751d8ffeb
DTSTAMP:20260423T170424Z
SUMMARY:2024 B'nai Tzedek Kick Off Event and Senior Farewell
DESCRIPTION:Jewish Federation of Greater Nashville\nFederation Calendar\nht
 tps://jewishnashville.org/events/2024-bnai-tzedek-kick-off-event-and-senio
 r-farewell-442343\n\nB&#39\;nai Tzedek 2024 Kick Off and Senior Farewell\n
 \nIntroducing the new B&#39\;nai Tzedek Board for 2024-2025 and celebrati
 ng our 2024 seniors. B&#39\;nao Tzedek Members and all Nashville Jewish Te
 ens encouraged to attend\,
DTSTART;TZID=America/Chicago:20240505T160000
DTEND;TZID=America/Chicago:20240505T180000
END:VEVENT
END:VCALENDAR
