BEGIN:VCALENDAR
PRODID:-//eluceo/ical//2.0/EN
VERSION:2.0
CALSCALE:GREGORIAN
BEGIN:VEVENT
UID:4f78016c0ccd8355fa3c8d0285700bef
DTSTAMP:20260422T135221Z
SUMMARY:Akiva School Board Meeting
DESCRIPTION:Jewish Federation of Greater Nashville\nFederation Calendar\nht
 tps://jewishnashville.org/events/akiva-school-board-meeting-1698681939-451
 158\n\nThe Akiva School Board of Directors will meet.
DTSTART;TZID=America/Chicago:20240221T183000
DTEND;TZID=America/Chicago:20240221T193000
END:VEVENT
END:VCALENDAR
