BEGIN:VCALENDAR
PRODID:-//eluceo/ical//2.0/EN
VERSION:2.0
CALSCALE:GREGORIAN
BEGIN:VEVENT
UID:aa094500ba4d6cbc17495f9e2d2b8674
DTSTAMP:20260421T061635Z
SUMMARY:Akiva School Executive Committee Meeting
DESCRIPTION:Jewish Federation of Greater Nashville\nFederation Calendar\nht
 tps://jewishnashville.org/events/akiva-school-executive-committee-meeting-
 1698688460-451188\n\nThe executive committee of Akiva Board of Directors w
 ill meet virtually.
DTSTART;TZID=America/Chicago:20240416T160000
DTEND;TZID=America/Chicago:20240416T164500
END:VEVENT
END:VCALENDAR
