BEGIN:VCALENDAR
PRODID:-//eluceo/ical//2.0/EN
VERSION:2.0
CALSCALE:GREGORIAN
BEGIN:VEVENT
UID:714bed99693b05a660424e7368b28f9c
DTSTAMP:20260422T150704Z
SUMMARY:Akiva's PTFA Hanukah Party Fundraiser
DESCRIPTION:Jewish Federation of Greater Nashville\nFederation Calendar\nht
 tps://jewishnashville.org/events/akivas-ptfa-hanukah-party-fundraiser-1698
 861481-451375\n\nThe PTFA at Akiva school hosts the Annual Hanukah Fundrai
 ser.
DTSTART;TZID=America/Chicago:20231208T080000
DTEND;TZID=America/Chicago:20231208T103000
END:VEVENT
END:VCALENDAR
