BEGIN:VCALENDAR
PRODID:-//eluceo/ical//2.0/EN
VERSION:2.0
CALSCALE:GREGORIAN
BEGIN:VEVENT
UID:82b549ae5c8f09d0f134ca95a6c14390
DTSTAMP:20260426T004130Z
SUMMARY:Aveva LIVE in Concert
DESCRIPTION:Jewish Federation of Greater Nashville\nFederation Calendar\nht
 tps://jewishnashville.org/events/aveva-432254\n\nIsraeli musical artist pe
 rformance to celebrate Israel at 75
DTSTART;TZID=America/Chicago:20230621T190000
DTEND;TZID=America/Chicago:20230621T210000
END:VEVENT
END:VCALENDAR
