BEGIN:VCALENDAR
PRODID:-//eluceo/ical//2.0/EN
VERSION:2.0
CALSCALE:GREGORIAN
BEGIN:VEVENT
UID:13f662ce050b8b96c60372d73a572559
DTSTAMP:20260423T164218Z
SUMMARY:B'nai Tzedek Welcome Back Event
DESCRIPTION:Jewish Federation of Greater Nashville\nFederation Calendar\nht
 tps://jewishnashville.org/events/bnai-tzedek-welcome-back-event-442342\n\n
 2023 Welcome Back from Summer B&#39\;nai Tzedek Event for all current Nasv
 hille B&#39\;nai Tzedek Members
DTSTART;TZID=America/Chicago:20230910T160000
DTEND;TZID=America/Chicago:20230910T180000
END:VEVENT
END:VCALENDAR
