BEGIN:VCALENDAR
PRODID:-//eluceo/ical//2.0/EN
VERSION:2.0
CALSCALE:GREGORIAN
BEGIN:VEVENT
UID:873ce6590e3d9b6083ce6fffaa6eed5a
DTSTAMP:20260425T165039Z
SUMMARY:Community Yom Hashoah Service
DESCRIPTION:Jewish Federation of Greater Nashville\nFederation Calendar\nht
 tps://jewishnashville.org/events/community-yom-hashoah-service-1665596840-
 419632\n\nAnnual community event to honor Holocaust survivors
DTSTART;TZID=America/Chicago:20230423T140000
DTEND;TZID=America/Chicago:20230423T150000
END:VEVENT
END:VCALENDAR
