BEGIN:VCALENDAR
PRODID:-//eluceo/ical//2.0/EN
VERSION:2.0
CALSCALE:GREGORIAN
BEGIN:VEVENT
UID:a3ec45fab22a6724ac23bbecfcd1b6be
DTSTAMP:20260426T003237Z
SUMMARY:Dickson Pride
DESCRIPTION:Jewish Federation of Greater Nashville\nFederation Calendar\nht
 tps://jewishnashville.org/events/dickson-pride-1677004275-432354\n\nDickso
 n Pride
DTSTART;TZID=America/Chicago:20230610T120000
DTEND;TZID=America/Chicago:20230610T170000
END:VEVENT
END:VCALENDAR
