BEGIN:VCALENDAR
PRODID:-//eluceo/ical//2.0/EN
VERSION:2.0
CALSCALE:GREGORIAN
BEGIN:VEVENT
UID:1dd7f47205d59aa014d08d8e9ed4361a
DTSTAMP:20260424T075203Z
SUMMARY:East Nashville Potluck Yom Kippur Break Fast
DESCRIPTION:Jewish Federation of Greater Nashville\nFederation Calendar\nht
 tps://jewishnashville.org/events/east-nashville-potluck-yom-kippur-break-f
 ast-1694097574-447645\n\nRegister with the link below:\n\nhttps://www.even
 tbrite.com/e/east-nashville-potluck-yom-kippur-break-fast-tickets-69756905
 6827
DTSTART;TZID=America/Chicago:20230925T173000
DTEND;TZID=America/Chicago:20230925T203000
END:VEVENT
END:VCALENDAR
