BEGIN:VCALENDAR
PRODID:-//eluceo/ical//2.0/EN
VERSION:2.0
CALSCALE:GREGORIAN
BEGIN:VEVENT
UID:a811d011c6d8bce280129379a8dd9430
DTSTAMP:20260423T233324Z
SUMMARY:East Side Tribe L'chaim Time!
DESCRIPTION:Jewish Federation of Greater Nashville\nFederation Calendar\nht
 tps://jewishnashville.org/events/east-side-tribe-lchaim-time-1696529563-44
 9781\n\nA very casual neighborhood happy hour with East Nashville&#39\;s m
 eshugganah mishpachah!\nRegistration Link: https://www.eventbrite.com/e/lc
 haim-time-tickets-620802205107
DTSTART;TZID=America/Chicago:20231102T173000
DTEND;TZID=America/Chicago:20231102T190000
END:VEVENT
END:VCALENDAR
