BEGIN:VCALENDAR
PRODID:-//eluceo/ical//2.0/EN
VERSION:2.0
CALSCALE:GREGORIAN
BEGIN:VEVENT
UID:30f7817ecd7d57be9e92e7f0f4f24f99
DTSTAMP:20260425T034401Z
SUMMARY:East Side Tribe potluck Shabbat dinner
DESCRIPTION:Jewish Federation of Greater Nashville\nFederation Calendar\nht
 tps://jewishnashville.org/events/east-side-tribe-potluck-shabbat-dinner-16
 96529446-449779\n\nJoin us for a potluck Shabbat! We will say the prayers\
 , fill up our wine glasses\, eat\, and join together in community. Please 
 b?ring a dish!\nRegistration Link: https://www.eventbrite.com/e/potluck-sh
 abbat-dinner-tickets-709046736877
DTSTART;TZID=America/Chicago:20231027T183000
DTEND;TZID=America/Chicago:20231027T213000
END:VEVENT
END:VCALENDAR
