BEGIN:VCALENDAR
PRODID:-//eluceo/ical//2.0/EN
VERSION:2.0
CALSCALE:GREGORIAN
BEGIN:VEVENT
UID:5ac217287af256cc079cd26e25f7e82a
DTSTAMP:20260423T153152Z
SUMMARY:East Side Tribe presents Tot Shabbat with Mr. Jack!
DESCRIPTION:Jewish Federation of Greater Nashville\nFederation Calendar\nht
 tps://jewishnashville.org/events/east-side-tribe-presents-tot-shabbat-with
 -mr-jack-1696263521-449483\n\nLittles! Let&#39\;s celebrate Shabbat togeth
 er! Come to East Park to jam with Mr. Jack. Parents\, stay for coffee & do
 nuts!\nRegistration Link: https://www.eventbrite.com/e/tot-shabbat-with-mr
 -jack-tickets-645065025857
DTSTART;TZID=America/Chicago:20231021T103000
DTEND;TZID=America/Chicago:20231021T113000
END:VEVENT
END:VCALENDAR
