BEGIN:VCALENDAR
PRODID:-//eluceo/ical//2.0/EN
VERSION:2.0
CALSCALE:GREGORIAN
BEGIN:VEVENT
UID:08a9de76cb5b0e57cd0ea0ad2c509811
DTSTAMP:20260422T202806Z
SUMMARY:East Side Tribe Rosh Chodesh
DESCRIPTION:Jewish Federation of Greater Nashville\nFederation Calendar\nht
 tps://jewishnashville.org/events/east-side-tribe-rosh-chodesh-1699297737-4
 51644\n\nA monthly women’s gathering for rest\, rejuvenation\, and celeb
 ration of life.
DTSTART;TZID=America/Chicago:20231115T190000
DTEND;TZID=America/Chicago:20231115T203000
END:VEVENT
END:VCALENDAR
