BEGIN:VCALENDAR
PRODID:-//eluceo/ical//2.0/EN
VERSION:2.0
CALSCALE:GREGORIAN
BEGIN:VEVENT
UID:b91631e60cd6f4102a0031a9a783c8de
DTSTAMP:20260423T235604Z
SUMMARY:East Side Tribelings Shabbat Dinner with Rabbi Kullock
DESCRIPTION:Jewish Federation of Greater Nashville\nFederation Calendar\nht
 tps://jewishnashville.org/events/east-side-tribelings-shabbat-dinner-with-
 rabbi-kullock-1694098018-447648\n\nRegister with the link below.\nhttps://
 www.eventbrite.com/e/east-side-tribelings-shabbat-dinner-w-rabbi-kullock-t
 ickets-710057610427
DTSTART;TZID=America/Chicago:20230922T164500
DTEND;TZID=America/Chicago:20230922T190000
END:VEVENT
END:VCALENDAR
