BEGIN:VCALENDAR
PRODID:-//eluceo/ical//2.0/EN
VERSION:2.0
CALSCALE:GREGORIAN
BEGIN:VEVENT
UID:a2958e875d12d4c27cad36d18126e160
DTSTAMP:20260426T023624Z
SUMMARY:East Side TribeRosh Chodesh
DESCRIPTION:Jewish Federation of Greater Nashville\nFederation Calendar\nht
 tps://jewishnashville.org/events/east-side-triberosh-chodesh-1696437456-44
 9675\n\nA monthly women’s gathering for rest\, rejuvenation\, and celebr
 ation of life.\nRegistration Link: https://www.eventbrite.com/e/rosh-chode
 sh-tickets-729823089507
DTSTART;TZID=America/Chicago:20231018T190000
DTEND;TZID=America/Chicago:20231018T203000
END:VEVENT
END:VCALENDAR
