BEGIN:VCALENDAR
PRODID:-//eluceo/ical//2.0/EN
VERSION:2.0
CALSCALE:GREGORIAN
BEGIN:VEVENT
UID:f62014821d3b3182975bbe4905c01e1a
DTSTAMP:20260423T035304Z
SUMMARY:Federation Leadership Program
DESCRIPTION:Jewish Federation of Greater Nashville\nFederation Calendar\nht
 tps://jewishnashville.org/events/federation-leadership-program-1680621536-
 435147\n\nLeadership program
DTSTART;TZID=America/Chicago:20231112T100000
DTEND;TZID=America/Chicago:20231112T120000
END:VEVENT
END:VCALENDAR
