BEGIN:VCALENDAR
PRODID:-//eluceo/ical//2.0/EN
VERSION:2.0
CALSCALE:GREGORIAN
BEGIN:VEVENT
UID:66708ce2c893a1b259fa89d65386b7b3
DTSTAMP:20260421T045347Z
SUMMARY:Federation Leadership Program
DESCRIPTION:Jewish Federation of Greater Nashville\nFederation Calendar\nht
 tps://jewishnashville.org/events/federation-leadership-program-1680621984-
 435154\n\nLeadership Program
DTSTART;TZID=America/Chicago:20240407T100000
DTEND;TZID=America/Chicago:20240407T120000
END:VEVENT
END:VCALENDAR
