BEGIN:VCALENDAR
PRODID:-//eluceo/ical//2.0/EN
VERSION:2.0
CALSCALE:GREGORIAN
BEGIN:VEVENT
UID:226f9d3d3515b48e717814295999eb55
DTSTAMP:20260422T103817Z
SUMMARY:Federation Leadership Program
DESCRIPTION:Jewish Federation of Greater Nashville\nFederation Calendar\nht
 tps://jewishnashville.org/events/federation-leadership-program-1680622055-
 435155\n\nLeadership Program
DTSTART;TZID=America/Chicago:20240512T100000
DTEND;TZID=America/Chicago:20240512T120000
END:VEVENT
END:VCALENDAR
