BEGIN:VCALENDAR
PRODID:-//eluceo/ical//2.0/EN
VERSION:2.0
CALSCALE:GREGORIAN
BEGIN:VEVENT
UID:349f0b37daac96d95507f0c61e51c947
DTSTAMP:20260426T023604Z
SUMMARY:Federation Meeting
DESCRIPTION:Jewish Federation of Greater Nashville\nFederation Calendar\nht
 tps://jewishnashville.org/events/federation-meeting-05042023-436898\n\nFed
 eration Meeting
DTSTART;TZID=America/Chicago:20230504T190000
DTEND;TZID=America/Chicago:20230504T210000
END:VEVENT
END:VCALENDAR
