BEGIN:VCALENDAR
PRODID:-//eluceo/ical//2.0/EN
VERSION:2.0
CALSCALE:GREGORIAN
BEGIN:VEVENT
UID:fe39e1af22cc9f9f176eeac4784b4644
DTSTAMP:20260425T121514Z
SUMMARY:Franklin Pride
DESCRIPTION:Jewish Federation of Greater Nashville\nFederation Calendar\nht
 tps://jewishnashville.org/events/franklin-pride-1677004237-432353\n\nFrank
 lin Pride
DTSTART;TZID=America/Chicago:20230603T120000
DTEND;TZID=America/Chicago:20230603T170000
END:VEVENT
END:VCALENDAR
