BEGIN:VCALENDAR
PRODID:-//eluceo/ical//2.0/EN
VERSION:2.0
CALSCALE:GREGORIAN
BEGIN:VEVENT
UID:8ac691dd4a2034076a166e972cc227ec
DTSTAMP:20260425T151359Z
SUMMARY:Israel History 101 with Ari Dubin
DESCRIPTION:Jewish Federation of Greater Nashville\nFederation Calendar\nht
 tps://jewishnashville.org/events/israel-history-101-with-ari-dubin-1701380
 635-453292\n\nTalking history and facts about Israel\nhistory overview of 
 the state of Israel and the Israeli-Palestinian conflicts and facts about 
 Israel that people need to know before they talk about it
DTSTART;TZID=America/Chicago:20231219T180000
DTEND;TZID=America/Chicago:20231219T193000
END:VEVENT
END:VCALENDAR
