BEGIN:VCALENDAR
PRODID:-//eluceo/ical//2.0/EN
VERSION:2.0
CALSCALE:GREGORIAN
BEGIN:VEVENT
UID:1a469c3d2b4dbaed0bb47f8c102f3d09
DTSTAMP:20260425T183510Z
SUMMARY:Israeli sing-a-long event
DESCRIPTION:Jewish Federation of Greater Nashville\nFederation Calendar\nht
 tps://jewishnashville.org/events/israeli-sing-a-long-event-1699990293-4521
 93\n\nIsraeli sing-a-long event with Michal and friends
DTSTART;TZID=America/Chicago:20231119T150000
DTEND;TZID=America/Chicago:20231119T164500
END:VEVENT
END:VCALENDAR
