BEGIN:VCALENDAR
PRODID:-//eluceo/ical//2.0/EN
VERSION:2.0
CALSCALE:GREGORIAN
BEGIN:VEVENT
UID:7d3d7938fbe05edbe930ea42e5ea0dd4
DTSTAMP:20260422T165752Z
SUMMARY:Jewish Community Night with the Predators
DESCRIPTION:Jewish Federation of Greater Nashville\nFederation Calendar\nht
 tps://jewishnashville.org/events/jewish-community-night-with-the-predators
 -1694449191-447885\n\nJewish community celebration at Predator&#39\;s game
DTSTART;TZID=America/Chicago:20231212T180000
DTEND;TZID=America/Chicago:20231212T210000
END:VEVENT
END:VCALENDAR
