BEGIN:VCALENDAR
PRODID:-//eluceo/ical//2.0/EN
VERSION:2.0
CALSCALE:GREGORIAN
BEGIN:VEVENT
UID:0dbf4661e84becdd5e310cc04e01103f
DTSTAMP:20260422T165757Z
SUMMARY:Jewish Community Security Meeting
DESCRIPTION:Jewish Federation of Greater Nashville\nFederation Calendar\nht
 tps://jewishnashville.org/events/jewish-community-security-meeting-1698353
 076-450999\n\nMeeting of community representatives responsible for securit
 y
DTSTART;TZID=America/Chicago:20231120T190000
DTEND;TZID=America/Chicago:20231120T200000
END:VEVENT
END:VCALENDAR
