BEGIN:VCALENDAR
PRODID:-//eluceo/ical//2.0/EN
VERSION:2.0
CALSCALE:GREGORIAN
BEGIN:VEVENT
UID:efafd1c71e4959655ae92eabbbda8c55
DTSTAMP:20260420T225817Z
SUMMARY:Jewish Federation of Greater Nashville Herzlian Dinner program.
DESCRIPTION:Jewish Federation of Greater Nashville\nFederation Calendar\nht
 tps://jewishnashville.org/events/jewish-federation-of-greater-nashville-he
 rzlian-dinner-program-1691768760-445455\n\nJewish Federation of Greater Na
 shville Herzlian Dinner program by invitation only.
DTSTART;TZID=America/Chicago:20240417T180000
DTEND;TZID=America/Chicago:20240417T200000
END:VEVENT
END:VCALENDAR
