BEGIN:VCALENDAR
PRODID:-//eluceo/ical//2.0/EN
VERSION:2.0
CALSCALE:GREGORIAN
BEGIN:VEVENT
UID:56256c6b929e43dc1f50f6b952cbc6c6
DTSTAMP:20260422T115906Z
SUMMARY:Jewsic City December Shabbat
DESCRIPTION:Jewish Federation of Greater Nashville\nFederation Calendar\nht
 tps://jewishnashville.org/events/jewsic-city-december-shabbat-1701101739-4
 52912\n\nJoin us for our monthly Jewsic City Shabbat on December 15th. Din
 ner will be provided at 6:30 followed by our musical service at 7:30.\n\nJ
 ewsic City creates a space for people to come together for Jewish musical 
 experiences outside of traditional synagogues and denominations and in the
  style of Jewish summer camps. We are a thriving\, growing group of young 
 professionals who want to experience their own Judaism in a meaningful way
  through music\, prayer\, and community. No matter if we gather f...
DTSTART;TZID=America/Chicago:20231215T183000
DTEND;TZID=America/Chicago:20231215T213000
END:VEVENT
END:VCALENDAR
