BEGIN:VCALENDAR
PRODID:-//eluceo/ical//2.0/EN
VERSION:2.0
CALSCALE:GREGORIAN
BEGIN:VEVENT
UID:737f7a0b89547c9d01b2a7ad2ac3f67d
DTSTAMP:20260422T080309Z
SUMMARY:Jewsic City January Shabbat
DESCRIPTION:Jewish Federation of Greater Nashville\nFederation Calendar\nht
 tps://jewishnashville.org/events/jewsic-city-january-shabbat-1701101815-45
 2913\n\nJoin us for our monthly Jewsic City Shabbat on January 19th. Dinne
 r will be provided at 6:30 followed by our musical service at 7:30.\n\nJew
 sic City creates a space for people to come together for Jewish musical ex
 periences outside of traditional synagogues and denominations and in the s
 tyle of Jewish summer camps. We are a thriving\, growing group of young pr
 ofessionals who want to experience their own Judaism in a meaningful way t
 hrough music\, prayer\, and community. No matter if we gather fo...
DTSTART;TZID=America/Chicago:20240119T183000
DTEND;TZID=America/Chicago:20240119T213000
END:VEVENT
END:VCALENDAR
