BEGIN:VCALENDAR
PRODID:-//eluceo/ical//2.0/EN
VERSION:2.0
CALSCALE:GREGORIAN
BEGIN:VEVENT
UID:3682a90d76854d4e6cd194e4d0460726
DTSTAMP:20260425T183505Z
SUMMARY:JFED Lunch Meeting
DESCRIPTION:Jewish Federation of Greater Nashville\nFederation Calendar\nht
 tps://jewishnashville.org/events/jfed-lunch-meeting-1696536437-449793\n\nJ
 ewish Federation lunch meeting with agency directors and rabbis.
DTSTART;TZID=America/Chicago:20231025T113000
DTEND;TZID=America/Chicago:20231025T133000
END:VEVENT
END:VCALENDAR
