BEGIN:VCALENDAR
PRODID:-//eluceo/ical//2.0/EN
VERSION:2.0
CALSCALE:GREGORIAN
BEGIN:VEVENT
UID:1be472bd307ebdc6bfd2e65736883b5f
DTSTAMP:20260426T023544Z
SUMMARY:JFGN Board Meeting
DESCRIPTION:Jewish Federation of Greater Nashville\nFederation Calendar\nht
 tps://jewishnashville.org/events/jfgn-board-meeting-1702656132-454151\n\nJ
 FNG December Board Meeting
DTSTART;TZID=America/Chicago:20231218T190000
DTEND;TZID=America/Chicago:20231218T210000
END:VEVENT
END:VCALENDAR
