BEGIN:VCALENDAR
PRODID:-//eluceo/ical//2.0/EN
VERSION:2.0
CALSCALE:GREGORIAN
BEGIN:VEVENT
UID:ab7b06642c46ddfeed34905fe2b6d9e5
DTSTAMP:20260422T114424Z
SUMMARY:JFS Israeli Gathering
DESCRIPTION:Jewish Federation of Greater Nashville\nFederation Calendar\nht
 tps://jewishnashville.org/events/jfs-israeli-gathering-1699038191-451594\n
 \nJFS hosting Israeli evacuees for a meal\, music and fun.
DTSTART;TZID=America/Chicago:20231211T170000
DTEND;TZID=America/Chicago:20231211T190000
END:VEVENT
END:VCALENDAR
