BEGIN:VCALENDAR
PRODID:-//eluceo/ical//2.0/EN
VERSION:2.0
CALSCALE:GREGORIAN
BEGIN:VEVENT
UID:1f49fc7faeb55f9613b51361d769568b
DTSTAMP:20260422T155318Z
SUMMARY:Libeinu B’mizrach: Nashville Sings for Israel
DESCRIPTION:Jewish Federation of Greater Nashville\nFederation Calendar\nht
 tps://jewishnashville.org/events/libeinu-bmizrach-nashville-sings-for-isra
 el-1700167359-452432\n\nThe Nashville Jewish community comes together in s
 olidarity to mourn and show support to Israel. Various local Jewish musici
 ans will lead us in song as we process the ongoing Israeli conflict.
DTSTART;TZID=America/Chicago:20240121T150000
DTEND;TZID=America/Chicago:20240121T163000
END:VEVENT
END:VCALENDAR
