BEGIN:VCALENDAR
PRODID:-//eluceo/ical//2.0/EN
VERSION:2.0
CALSCALE:GREGORIAN
BEGIN:VEVENT
UID:5f179d4ac4a416197502ccf5891b4d78
DTSTAMP:20260425T221838Z
SUMMARY:Life & Legacy Archives Event
DESCRIPTION:Jewish Federation of Greater Nashville\nFederation Calendar\nht
 tps://jewishnashville.org/events/life--legacy-archives-event-1696357146-44
 9581\n\nTelling Our Stories\, by Valeria Eadler\, graduate student at MTSU
 . Ms. Eadler will talk about her project creating a digital record of the 
 Jewish Archives housed at the Gordon JCC.\n\nA kosher dinner will be provi
 ded to those who RSVP using the link below.\n\nhttps://www.jewishnashville
 .org/archives-ourstories
DTSTART;TZID=America/Chicago:20231026T180000
DTEND;TZID=America/Chicago:20231026T193000
END:VEVENT
END:VCALENDAR
