BEGIN:VCALENDAR
PRODID:-//eluceo/ical//2.0/EN
VERSION:2.0
CALSCALE:GREGORIAN
BEGIN:VEVENT
UID:84fd975e9a2651f010fd26732df52bd5
DTSTAMP:20260422T103406Z
SUMMARY:LIfe & Legacy: Looking Ahead to Year 8
DESCRIPTION:Jewish Federation of Greater Nashville\nFederation Calendar\nht
 tps://jewishnashville.org/events/life--legacy-looking-ahead-to-year-8-1697
 036167-450071\n\nLife & Legacy volunteer training. This is the second and 
 final required training in Year 7 for volunteers.
DTSTART;TZID=America/Chicago:20240602T140000
DTEND;TZID=America/Chicago:20240602T163000
END:VEVENT
END:VCALENDAR
