BEGIN:VCALENDAR
PRODID:-//eluceo/ical//2.0/EN
VERSION:2.0
CALSCALE:GREGORIAN
BEGIN:VEVENT
UID:82093d13b7b68817363fd4f51444ad9d
DTSTAMP:20260424T090849Z
SUMMARY:Lunch with Dan
DESCRIPTION:Jewish Federation of Greater Nashville\nFederation Calendar\nht
 tps://jewishnashville.org/events/lunch-with-dan-1688684652-442626\n\nThis 
 is a private meeting by invitation only.
DTSTART;TZID=America/Chicago:20230802T113000
DTEND;TZID=America/Chicago:20230802T140000
END:VEVENT
END:VCALENDAR
