BEGIN:VCALENDAR
PRODID:-//eluceo/ical//2.0/EN
VERSION:2.0
CALSCALE:GREGORIAN
BEGIN:VEVENT
UID:497a85251d40ce2e6cd7aef58901c96b
DTSTAMP:20260422T114502Z
SUMMARY:MLK Day March with Transportation
DESCRIPTION:Jewish Federation of Greater Nashville\nFederation Calendar\nht
 tps://jewishnashville.org/events/mlk-day-march-with-transportation-1701281
 194-453113\n\nJoin members of the Jewish community at the MLK march. Trans
 portation will leave from and return to the Gordon JCC
DTSTART;TZID=America/Chicago:20240115T083000
DTEND;TZID=America/Chicago:20240115T120000
END:VEVENT
END:VCALENDAR
