BEGIN:VCALENDAR
PRODID:-//eluceo/ical//2.0/EN
VERSION:2.0
CALSCALE:GREGORIAN
BEGIN:VEVENT
UID:0dd8476afdcb5e624d35b95f7308120c
DTSTAMP:20260425T034247Z
SUMMARY:Moishe House Bagels + Games
DESCRIPTION:Jewish Federation of Greater Nashville\nFederation Calendar\nht
 tps://jewishnashville.org/events/moishe-house-bagels--games-1692761442-446
 367\n\nA $5 donation to our WE ARE campaign gets you entrance into an all-
 you-can-eat brunch buffet and a morning of nonstop games. Let us know if y
 ou have any dietary restrictions - can&#39\;t wait to see you there!
DTSTART;TZID=America/Chicago:20230917T120000
DTEND;TZID=America/Chicago:20230917T130000
END:VEVENT
END:VCALENDAR
