BEGIN:VCALENDAR
PRODID:-//eluceo/ical//2.0/EN
VERSION:2.0
CALSCALE:GREGORIAN
BEGIN:VEVENT
UID:ed23cc61e6f4a6c6eefc0ec09a671c1f
DTSTAMP:20260425T201540Z
SUMMARY:Moishe House Bowling
DESCRIPTION:Jewish Federation of Greater Nashville\nFederation Calendar\nht
 tps://jewishnashville.org/events/moishe-house-bowling-1690919000-444692\n\
 nWhat&#39\;s not to love about bowling? Join Moishe House as you are - bum
 pers or no bumpers - for a night of groovy games at Eastside Bowl. RSVP vi
 a $5 venmo to @Rose-Capin
DTSTART;TZID=America/Chicago:20230813T170000
DTEND;TZID=America/Chicago:20230813T190000
END:VEVENT
END:VCALENDAR
