BEGIN:VCALENDAR
PRODID:-//eluceo/ical//2.0/EN
VERSION:2.0
CALSCALE:GREGORIAN
BEGIN:VEVENT
UID:338f58d39b6b1b2f32ed01ac747d50a2
DTSTAMP:20260425T232354Z
SUMMARY:Moishe House Potluck Shabbat
DESCRIPTION:Jewish Federation of Greater Nashville\nFederation Calendar\nht
 tps://jewishnashville.org/events/moishe-house-potluck-shabbat-1690918624-4
 44690\n\nIt&#39\;s the best part of the week! Join Moishe House for a chil
 l potluck Shabbat to review the highs and lows of the week with new and ol
 d friends. RSVP via OneTable: https://dinners.onetable.org/events/114b1bda
 -2290-4297-a6f5-64cbe2dfdc67
DTSTART;TZID=America/Chicago:20230804T183000
DTEND;TZID=America/Chicago:20230804T203000
END:VEVENT
END:VCALENDAR
