BEGIN:VCALENDAR
PRODID:-//eluceo/ical//2.0/EN
VERSION:2.0
CALSCALE:GREGORIAN
BEGIN:VEVENT
UID:5e922d358d84e0dadab14e169a960d71
DTSTAMP:20260423T235515Z
SUMMARY:Moishe House TenX9 Field Trip
DESCRIPTION:Jewish Federation of Greater Nashville\nFederation Calendar\nht
 tps://jewishnashville.org/events/moishe-house-tenx9-field-trip-1692761522-
 446368\n\nWe&#39\;re in the Days of Awe\, the time between Rosh Hashanah a
 nd Yom Kippur\, aka the most reflective time in the Jewish calendar. Join 
 us for a night of reflection at TenX9\, Nashville&#39\;s very best storyte
 lling event. Holler if you&#39\;re coming so we can save you a seat!
DTSTART;TZID=America/Chicago:20230918T183000
DTEND;TZID=America/Chicago:20230918T203000
END:VEVENT
END:VCALENDAR
