BEGIN:VCALENDAR
PRODID:-//eluceo/ical//2.0/EN
VERSION:2.0
CALSCALE:GREGORIAN
BEGIN:VEVENT
UID:bdc014597d48b92e66f4532d58c8af13
DTSTAMP:20260425T211828Z
SUMMARY:NowGen 4th of July BBQ
DESCRIPTION:Jewish Federation of Greater Nashville\nFederation Calendar\nht
 tps://jewishnashville.org/events/nowgen-4th-of-july-bbq-1671136840-423857\
 n\nFun\, family friendly NowGen BBQ to celebrate the 4th of July
DTSTART;TZID=America/Chicago:20230702T130000
DTEND;TZID=America/Chicago:20230702T150000
END:VEVENT
END:VCALENDAR
