BEGIN:VCALENDAR
PRODID:-//eluceo/ical//2.0/EN
VERSION:2.0
CALSCALE:GREGORIAN
BEGIN:VEVENT
UID:63be3fe98c95c56611dbc0089f85a0bc
DTSTAMP:20260422T150714Z
SUMMARY:NowGen Hanukkah Party
DESCRIPTION:Jewish Federation of Greater Nashville\nFederation Calendar\nht
 tps://jewishnashville.org/events/nowgen-hanukkah-party-1689706798-443354\n
 \nBig Blowout NowGen Hanukkah Party
DTSTART;TZID=America/Chicago:20231214T180000
DTEND;TZID=America/Chicago:20231214T210000
END:VEVENT
END:VCALENDAR
