BEGIN:VCALENDAR
PRODID:-//eluceo/ical//2.0/EN
VERSION:2.0
CALSCALE:GREGORIAN
BEGIN:VEVENT
UID:cd5750e93190c3d35a30b71f5484dd6d
DTSTAMP:20260424T235947Z
SUMMARY:NowGen Writers Round
DESCRIPTION:Jewish Federation of Greater Nashville\nFederation Calendar\nht
 tps://jewishnashville.org/events/nowgen-writers-round-1682534897-436432\n\
 nNowGen will be taking over the weekly Nashville Tour Stop writers round a
 t the Cambria Hotel downtown
DTSTART;TZID=America/Chicago:20230801T180000
DTEND;TZID=America/Chicago:20230801T220000
END:VEVENT
END:VCALENDAR
