BEGIN:VCALENDAR
PRODID:-//eluceo/ical//2.0/EN
VERSION:2.0
CALSCALE:GREGORIAN
BEGIN:VEVENT
UID:d565380379574805b9eba8f0ce4d9bfd
DTSTAMP:20260422T101738Z
SUMMARY:Potluck Shabbat Dinner! EastSide Tribe
DESCRIPTION:Jewish Federation of Greater Nashville\nFederation Calendar\nht
 tps://jewishnashville.org/events/potluck-shabbat-dinner-eastside-tribe-170
 3004480-454347\n\nJoin us for a potluck Shabbat! We&#39\;ll provide challa
 h and wine. Please bring a dish to share. Thank you!
DTSTART;TZID=America/Chicago:20240126T183000
DTEND;TZID=America/Chicago:20240126T203000
END:VEVENT
END:VCALENDAR
