BEGIN:VCALENDAR
PRODID:-//eluceo/ical//2.0/EN
VERSION:2.0
CALSCALE:GREGORIAN
BEGIN:VEVENT
UID:f2df9bb9866de1fa99d91edf1d4fd04b
DTSTAMP:20260426T021903Z
SUMMARY:Community Book Read   People Love Dead Jews by Dara Horn - Option 1
DESCRIPTION:Jewish Federation of Greater Nashville\nFederation Calendar\nht
 tps://jewishnashville.org/events/read1-436356\n\nCommunity Book Read \n\n
 People Love Dead Jews by Dara Horn \n\n \n\nJoin us for a community read
  of People Love Dead Jews\, in preparation for author Dara Horn’s visit.
  Sign up for one of the dates listed below to join a conversation with d
 iscussion leaders.\n\n \n\nSunday\, May 7th at 10 am\, Private Home (addr
 ess to be announced after registration)\n\n \n\nOTHER DATE/LOCATION OPTIO
 NS: \n\n \n\nTuesday\, May 9th at 7 pm at the home of Allison Cutler 
 (address will be disclosed after...
DTSTART;TZID=America/Chicago:20230507T100000
DTEND;TZID=America/Chicago:20230507T120000
END:VEVENT
END:VCALENDAR
