BEGIN:VCALENDAR
PRODID:-//eluceo/ical//2.0/EN
VERSION:2.0
CALSCALE:GREGORIAN
BEGIN:VEVENT
UID:45d2dea5a49eb54ee575160f69448430
DTSTAMP:20260425T200103Z
SUMMARY:Tennessee Federation Execs Meeting
DESCRIPTION:Jewish Federation of Greater Nashville\nFederation Calendar\nht
 tps://jewishnashville.org/events/tennessee-federation-execs-meeting-170006
 5115-452271\n\nTN Fed Execs Meeting
DTSTART;TZID=America/Chicago:20231221T100000
DTEND;TZID=America/Chicago:20231221T160000
END:VEVENT
END:VCALENDAR
