BEGIN:VCALENDAR
PRODID:-//eluceo/ical//2.0/EN
VERSION:2.0
CALSCALE:GREGORIAN
BEGIN:VEVENT
UID:3984f7fdd7b466ffeb44cae5e6de1b73
DTSTAMP:20260423T033530Z
SUMMARY:Understanding Hate Crimes and How to Report and Respond
DESCRIPTION:Jewish Federation of Greater Nashville\nFederation Calendar\nht
 tps://jewishnashville.org/events/understanding-hate-crimes-and-how-to-repo
 rt-and-respond-1687983863-441892\n\nLearning about how hate crimes are aff
 ecting our community
DTSTART;TZID=America/Chicago:20231030T190000
DTEND;TZID=America/Chicago:20231030T210000
END:VEVENT
END:VCALENDAR
