BEGIN:VCALENDAR
PRODID:-//eluceo/ical//2.0/EN
VERSION:2.0
CALSCALE:GREGORIAN
BEGIN:VEVENT
UID:84808fcdaab09d2b6cb03cfb805ef33f
DTSTAMP:20260423T072828Z
SUMMARY:Update on Israel with Journalist Yaron Deckel
DESCRIPTION:Jewish Federation of Greater Nashville\nFederation Calendar\nht
 tps://jewishnashville.org/events/update-on-israel-with-journalist-yaron-de
 ckel-1695402879-448916\n\nUpdate on Israel with journalist Yaron Deckel -\
 nMr Deckel will be via zoom only
DTSTART;TZID=America/Chicago:20231109T190000
DTEND;TZID=America/Chicago:20231109T210000
END:VEVENT
END:VCALENDAR
