BEGIN:VCALENDAR
PRODID:-//eluceo/ical//2.0/EN
VERSION:2.0
CALSCALE:GREGORIAN
BEGIN:VEVENT
UID:0fa3406c699265f033d40a717934a8b7
DTSTAMP:20260426T034546Z
SUMMARY:Women's Lunch with Luciana Berger
DESCRIPTION:Jewish Federation of Greater Nashville\nFederation Calendar\nht
 tps://jewishnashville.org/events/womens-lunch-with-luciana-berger-16776931
 19-432985\n\nThis event is by invitation only and will be off property. Th
 e topic is Women in Politics with Luciana Berger.
DTSTART;TZID=America/Chicago:20230416T110000
DTEND;TZID=America/Chicago:20230416T130000
END:VEVENT
END:VCALENDAR
