BEGIN:VCALENDAR
PRODID:-//eluceo/ical//2.0/EN
VERSION:2.0
CALSCALE:GREGORIAN
BEGIN:VEVENT
UID:091af1f681f287308d50f59da216f7b2
DTSTAMP:20260421T221420Z
SUMMARY:Young Jewish Nashville Super Shabbat
DESCRIPTION:Jewish Federation of Greater Nashville\nFederation Calendar\nht
 tps://jewishnashville.org/events/young-jewish-nashville-super-shabbat-1689
 707166-443359\n\nAll of the Young Jewish Nashville groups joining together
  to celebrate Shabbat together
DTSTART;TZID=America/Chicago:20240607T180000
DTEND;TZID=America/Chicago:20240607T200000
END:VEVENT
END:VCALENDAR
